BEGIN:VCALENDAR
METHOD:PUBLISH
VERSION:2.0
CALSCALE:GREGORIAN
PRODID:-//NONSGML WPForms//NONSGML Sugar Calendar Feeds v3.11.0//EN
X-WR-CALNAME:Uptown-Chess
X-WR-CALDESC:MNchess.org
X-WR-TIMEZONE:America/Chicago
BEGIN:VTIMEZONE
TZID:America/Chicago
BEGIN:DAYLIGHT
TZOFFSETFROM:-0600
TZOFFSETTO:-0500
DTSTART:20240310T080000
TZNAME:CDT
END:DAYLIGHT
END:VTIMEZONE
BEGIN:VTIMEZONE
TZID:America/Chicago
BEGIN:DAYLIGHT
TZOFFSETFROM:-0600
TZOFFSETTO:-0500
DTSTART:20240310T080000
TZNAME:CDT
END:DAYLIGHT
END:VTIMEZONE
BEGIN:VEVENT
SUMMARY:Uptown Chess
DESCRIPTION:We’re all about chess for fun. Some people use a clock\, s
 ome don’t.  Blitz is most common but some play slower time controls. S
 ome people are beginners\, some aren’t.  Some are out to learn\, some 
 are ready to share some tricks.  Wherever you are in your chess journey 
 is cool with us\, we’ll be happy to have you!\n\n\n\nWe usually start 
 up around 7:00 or so on Thursdays at Leaning Tower of Pizza.\n\n\n\nThe 
 first Thursday of the month\, however\, is Fancy First Thursday and we s
 imply start at Leaning Tower after 7 pm.  Hope to see you out!\n\n\n\nYo
 u can also find us on Lichess: https://lichess.org/team/uptown-chess
URL;VALUE=URI:https://mnchess.org/sc_recurring_event/uptownchess/
UID:urn:uuid:12735ee7-d822-4c78-bdfd-ca38ef3d29ad
STATUS:CONFIRMED
ORGANIZER:
DTSTAMP:20260420T114016Z
DTSTART;TZID=America/Chicago:20240523T190000
DTEND;TZID=America/Chicago:20240523T235500
RRULE:FREQ=WEEKLY;INTERVAL=1
LOCATION:Leaning Tower of Pizza: 2324 Lyndale Ave S\, Minneapolis\, MN 5
 5405
END:VEVENT
END:VCALENDAR