BEGIN:VCALENDAR
METHOD:PUBLISH
VERSION:2.0
CALSCALE:GREGORIAN
PRODID:-//NONSGML WPForms//NONSGML Sugar Calendar Feeds v3.11.0//EN
X-WR-CALNAME:Saint-Paul-Chess-Enthusiasts-at-JS-Bean-Factory
X-WR-CALDESC:MNchess.org
X-WR-TIMEZONE:America/Chicago
BEGIN:VTIMEZONE
TZID:America/Chicago
BEGIN:STANDARD
TZOFFSETFROM:-0500
TZOFFSETTO:-0600
DTSTART:20261101T070000
TZNAME:CST
END:STANDARD
END:VTIMEZONE
BEGIN:VTIMEZONE
TZID:America/Chicago
BEGIN:STANDARD
TZOFFSETFROM:-0500
TZOFFSETTO:-0600
DTSTART:20261101T070000
TZNAME:CST
END:STANDARD
END:VTIMEZONE
BEGIN:VEVENT
SUMMARY:Saint Paul Chess Enthusiasts at JS Bean Factory
DESCRIPTION:
URL;VALUE=URI:https://mnchess.org/sc_recurring_event/saint-paul-chess-en
 thusiasts-at-js-bean-factory/
UID:7mkdir4pstu87tddp44s83f58r@google.com
STATUS:CONFIRMED
ORGANIZER:
DTSTAMP:20260420T205408Z
DTSTART;TZID=America/Chicago:20270221T140000
DTEND;TZID=America/Chicago:20270221T170000
RRULE:FREQ=WEEKLY;INTERVAL=1
END:VEVENT
END:VCALENDAR