BEGIN:VCALENDAR
METHOD:PUBLISH
VERSION:2.0
CALSCALE:GREGORIAN
PRODID:-//NONSGML WPForms//NONSGML Sugar Calendar Feeds v3.11.0//EN
X-WR-CALNAME:Black-King-Chess-Club
X-WR-CALDESC:MNchess.org
X-WR-TIMEZONE:America/Chicago
BEGIN:VTIMEZONE
TZID:America/Chicago
BEGIN:DAYLIGHT
TZOFFSETFROM:-0600
TZOFFSETTO:-0500
DTSTART:20260308T080000
TZNAME:CDT
END:DAYLIGHT
END:VTIMEZONE
BEGIN:VTIMEZONE
TZID:America/Chicago
BEGIN:DAYLIGHT
TZOFFSETFROM:-0600
TZOFFSETTO:-0500
DTSTART:20260308T080000
TZNAME:CDT
END:DAYLIGHT
END:VTIMEZONE
BEGIN:VEVENT
SUMMARY:Black King Chess Club
DESCRIPTION:Black King Chess club is a BIPOC and LGBTQ safe-space based 
 in the Northside. We are also beginner friendly with a couple chess coac
 hes on hand at any given time.  Sundays from 2-4
URL;VALUE=URI:https://mnchess.org/sc_recurring_event/blackkingchess/
UID:urn:uuid:c6fcf49a-0bfe-4ae1-8c0f-2074e54fa76f
STATUS:CONFIRMED
ORGANIZER:
DTSTAMP:20260422T112437Z
DTSTART;TZID=America/Chicago:20260621T140000
DTEND;TZID=America/Chicago:20260621T160000
RRULE:FREQ=WEEKLY;INTERVAL=1
LOCATION:The Coffee Shop NE\n2852A Johnson St NE\, Minneapolis\, MN 5541
 8
END:VEVENT
END:VCALENDAR